Workbook

Sheet 修改说明
A1: 表内政府收支功能科目、公式都有大的修改，请务必使用新版填报。

Sheet 封面
A1: =IF(NmSH,"","审核不通过，请复制B11单元格内字符串命名文件！") -> 审核不通过，请复制B11单元格内字符串命名文件！
A2: =IF(COUNT(表三!C34:E34)=3,IF(COUNT(表四!C66:E66)=3,IF(COUNT(表五!C27:H27)=6,"","审核不通过，请检查表五收支平衡情况！"),"审核不通过，请检查表四收支平衡情况！"),"审核不通过，请检查表三收支平衡情况！")
A3: 2025年地方财政预算表
B5: 填报地区： | D5: =VLOOKUP(OFFSET(B5,0,1),内置数据!$B$2:$C$38,2,0) -> #N/A
D6: =表五!T16 -> 0
B7: 联系人：
B8: 联系电话：
A11: 请复制右边单元格内字符串命名文件： | B11: =IFERROR($D$5&"_2025年地方财政预算表（代编口径）_"&TEXT(NOW(),"YYYYMMDD_HHmm"),"请先选择填报地区") -> 请先选择填报地区
A13: 注：A1、A2单元格无错误提示才可上报。

Sheet 内置数据
B1: 省级
B2: 11_北京市 | C2: 11_北京
B3: 12_天津市 | C3: 12_天津
B4: 13_河北省 | C4: 13_河北
B5: 14_山西省 | C5: 14_山西
B6: 15_内蒙古自治区 | C6: 15_内蒙古
B7: 21_辽宁省 | C7: 21_辽宁
B8: 2102_大连市 | C8: 2102_大连
B9: 22_吉林省 | C9: 22_吉林
B10: 23_黑龙江省 | C10: 23_黑龙江
B11: 31_上海市 | C11: 31_上海
B12: 32_江苏省 | C12: 32_江苏
B13: 33_浙江省 | C13: 33_浙江
... B38: 66_新疆生产建设兵团 | C38: 66_兵团

Sheet 目录
A1: 目 录
A3: 表一 2025年一般公共预算收入表
A4: 表二 2025年一般公共预算支出表
A5: 表三 2025年一般公共预算收支平衡表
A6: 表四 2025年政府性基金预算收支表
A7: 表五 2025年国有资本经营预算收支表

Sheet 表一
A1: 表一
A2: 2025年一般公共预算收入表
F3: 单位：万元
A4: 项目 | C4: 上年 预算数 | D4: 上年预计 执行数 | E4: 预算数
A5: 代码 | B5: 名称 | E5: 金额 | F5: 为上年 预算数的% | G5: 为上年预计执行数的%
A6: 101 | B6: 税收收入 | C6: =SUM(OFFSET(C6,1,0,17,1)) -> 0 | D6: =SUM(OFFSET(D6,1,0,17,1)) -> 0 | E6: =SUM(OFFSET(E6,1,0,17,1)) -> 0 | F6: =IFERROR(OFFSET(F6,0,-1)/OFFSET(F6,0,-3),) -> 0 | G6: =IFERROR(OFFSET(G6,0,-2)/OFFSET(G6,0,-3),) -> 0
A7: 10101 | B7: 增值税 | F7: =IFERROR(OFFSET(F7,0,-1)/OFFSET(F7,0,-3),) -> 0 | G7: =IFERROR(OFFSET(G7,0,-2)/OFFSET(G7,0,-3),) -> 0
A8: 10104 | B8: 企业所得税 | F8: =IFERROR(OFFSET(F8,0,-1)/OFFSET(F8,0,-3),) -> 0 | G8: =IFERROR(OFFSET(G8,0,-2)/OFFSET(G8,0,-3),) -> 0
A9: 10106 | B9: 个人所得税 | F9: =IFERROR(OFFSET(F9,0,-1)/OFFSET(F9,0,-3),) -> 0 | G9: =IFERROR(OFFSET(G9,0,-2)/OFFSET(G9,0,-3),) -> 0
A10: 10107 | B10: 资源税 | F10: =IFERROR(OFFSET(F10,0,-1)/OFFSET(F10,0,-3),) -> 0 | G10: =IFERROR(OFFSET(G10,0,-2)/OFFSET(G10,0,-3),) -> 0
A11: 10109 | B11: 城市维护建设税 | F11: =IFERROR(OFFSET(F11,0,-1)/OFFSET(F11,0,-3),) -> 0 | G11: =IFERROR(OFFSET(G11,0,-2)/OFFSET(G11,0,-3),) -> 0
A12: 10110 | B12: 房产税 | F12: =IFERROR(OFFSET(F12,0,-1)/OFFSET(F12,0,-3),) -> 0 | G12: =IFERROR(OFFSET(G12,0,-2)/OFFSET(G12,0,-3),) -> 0
A13: 10111 | B13: 印花税 | F13: =IFERROR(OFFSET(F13,0,-1)/OFFSET(F13,0,-3),) -> 0 | G13: =IFERROR(OFFSET(G13,0,-2)/OFFSET(G13,0,-3),) -> 0
A14: 10112 | B14: 城镇土地使用税 | F14: =IFERROR(OFFSET(F14,0,-1)/OFFSET(F14,0,-3),) -> 0 | G14: =IFERROR(OFFSET(G14,0,-2)/OFFSET(G14,0,-3),) -> 0
A15: 10113 | B15: 土地增值税 | F15: =IFERROR(OFFSET(F15,0,-1)/OFFSET(F15,0,-3),) -> 0 | G15: =IFERROR(OFFSET(G15,0,-2)/OFFSET(G15,0,-3),) -> 0
A16: 10114 | B16: 车船税 | F16: =IFERROR(OFFSET(F16,0,-1)/OFFSET(F16,0,-3),) -> 0 | G16: =IFERROR(OFFSET(G16,0,-2)/OFFSET(G16,0,-3),) -> 0
A17: 10118 | B17: 耕地占用税 | F17: =IFERROR(OFFSET(F17,0,-1)/OFFSET(F17,0,-3),) -> 0 | G17: =IFERROR(OFFSET(G17,0,-2)/OFFSET(G17,0,-3),) -> 0
A18: 10119 | B18: 契税 | F18: =IFERROR(OFFSET(F18,0,-1)/OFFSET(F18,0,-3),) -> 0 | G18: =IFERROR(OFFSET(G18,0,-2)/OFFSET(G18,0,-3),) -> 0
... A21: 10199 | B21: 其他税收收入 | F21: =IFERROR(OFFSET(F21,0,-1)/OFFSET(F21,0,-3),) -> 0 | G21: =IFERROR(OFFSET(G21,0,-2)/OFFSET(G21,0,-3),) -> 0
A24: 103 | B24: 非税收入 | C24: =SUM(OFFSET(C24,1,0,10,1)) -> 0 | D24: =SUM(OFFSET(D24,1,0,10,1)) -> 0 | E24: =SUM(OFFSET(E24,1,0,10,1)) -> 0 | F24: =IFERROR(OFFSET(F24,0,-1)/OFFSET(F24,0,-3),) -> 0 | G24: =IFERROR(OFFSET(G24,0,-2)/OFFSET(G24,0,-3),) -> 0
A25: 10302 | B25: 专项收入 | F25: =IFERROR(OFFSET(F25,0,-1)/OFFSET(F25,0,-3),) -> 0 | G25: =IFERROR(OFFSET(G25,0,-2)/OFFSET(G25,0,-3),) -> 0
A26: 10304 | B26: 行政事业性收费收入 | F26: =IFERROR(OFFSET(F26,0,-1)/OFFSET(F26,0,-3),) -> 0 | G26: =IFERROR(OFFSET(G26,0,-2)/OFFSET(G26,0,-3),) -> 0
A27: 10305 | B27: 罚没收入 | F27: =IFERROR(OFFSET(F27,0,-1)/OFFSET(F27,0,-3),) -> 0 | G27: =IFERROR(OFFSET(G27,0,-2)/OFFSET(G27,0,-3),) -> 0
A28: 10306 | B28: 国有资本经营收入 | F28: =IFERROR(OFFSET(F28,0,-1)/OFFSET(F28,0,-3),) -> 0 | G28: =IFERROR(OFFSET(G28,0,-2)/OFFSET(G28,0,-3),) -> 0
A29: 10307 | B29: 国有资源（资产）有偿使用收入 | F29: =IFERROR(OFFSET(F29,0,-1)/OFFSET(F29,0,-3),) -> 0 | G29: =IFERROR(OFFSET(G29,0,-2)/OFFSET(G29,0,-3),) -> 0
A30: 10308 | B30: 捐赠收入 | F30: =IFERROR(OFFSET(F30,0,-1)/OFFSET(F30,0,-3),) -> 0 | G30: =IFERROR(OFFSET(G30,0,-2)/OFFSET(G30,0,-3),) -> 0
A31: 10309 | B31: 政府住房基金收入 | F31: =IFERROR(OFFSET(F31,0,-1)/OFFSET(F31,0,-3),) -> 0 | G31: =IFERROR(OFFSET(G31,0,-2)/OFFSET(G31,0,-3),) -> 0
A32: 10399 | B32: 其他收入 | F32: =IFERROR(OFFSET(F32,0,-1)/OFFSET(F32,0,-3),) -> 0 | G32: =IFERROR(OFFSET(G32,0,-2)/OFFSET(G32,0,-3),) -> 0
A35: 收入总计 | C35: =C6+C24 -> 0 | D35: =D6+D24 -> 0 | E35: =E6+E24 -> 0 | F35: =IFERROR(OFFSET(F35,0,-1)/OFFSET(F35,0,-3),) -> 0 | G35: =IFERROR(OFFSET(G35,0,-2)/OFFSET(G35,0,-3),) -> 0

Sheet 表二
A1: 表二
A2: 2025年一般公共预算支出表
G3: 单位：万元
A4: 项目 | C4: 上年 预算数 | D4: 上年预计 执行数 | E4: 预算数
A5: 代码 | B5: 名称 | E5: 金额 | F5: 为上年 预算数的% | G5: 为上年预计执行数的%
A6: 201 | B6: 一般公共服务支出 | F6: =IFERROR(OFFSET(F6,0,-1)/OFFSET(F6,0,-3),) -> 0 | G6: =IFERROR(OFFSET(G6,0,-2)/OFFSET(G6,0,-3),) -> 0
A7: 202 | B7: 外交支出 | F7: =IFERROR(OFFSET(F7,0,-1)/OFFSET(F7,0,-3),) -> 0 | G7: =IFERROR(OFFSET(G7,0,-2)/OFFSET(G7,0,-3),) -> 0
A8: 203 | B8: 国防支出 | F8: =IFERROR(OFFSET(F8,0,-1)/OFFSET(F8,0,-3),) -> 0 | G8: =IFERROR(OFFSET(G8,0,-2)/OFFSET(G8,0,-3),) -> 0
A9: 204 | B9: 公共安全支出 | F9: =IFERROR(OFFSET(F9,0,-1)/OFFSET(F9,0,-3),) -> 0 | G9: =IFERROR(OFFSET(G9,0,-2)/OFFSET(G9,0,-3),) -> 0
A10: 205 | B10: 教育支出 | F10: =IFERROR(OFFSET(F10,0,-1)/OFFSET(F10,0,-3),) -> 0 | G10: =IFERROR(OFFSET(G10,0,-2)/OFFSET(G10,0,-3),) -> 0
A11: 206 | B11: 科学技术支出 | F11: =IFERROR(OFFSET(F11,0,-1)/OFFSET(F11,0,-3),) -> 0 | G11: =IFERROR(OFFSET(G11,0,-2)/OFFSET(G11,0,-3),) -> 0
A12: 207 | B12: 文化旅游体育与传媒支出 | F12: =IFERROR(OFFSET(F12,0,-1)/OFFSET(F12,0,-3),) -> 0 | G12: =IFERROR(OFFSET(G12,0,-2)/OFFSET(G12,0,-3),) -> 0
A13: 208 | B13: 社会保障和就业支出 | F13: =IFERROR(OFFSET(F13,0,-1)/OFFSET(F13,0,-3),) -> 0 | G13: =IFERROR(OFFSET(G13,0,-2)/OFFSET(G13,0,-3),) -> 0
A14: 210 | B14: 卫生健康支出 | F14: =IFERROR(OFFSET(F14,0,-1)/OFFSET(F14,0,-3),) -> 0 | G14: =IFERROR(OFFSET(G14,0,-2)/OFFSET(G14,0,-3),) -> 0
A15: 211 | B15: 节能环保支出 | F15: =IFERROR(OFFSET(F15,0,-1)/OFFSET(F15,0,-3),) -> 0 | G15: =IFERROR(OFFSET(G15,0,-2)/OFFSET(G15,0,-3),) -> 0
A16: 212 | B16: 城乡社区支出 | F16: =IFERROR(OFFSET(F16,0,-1)/OFFSET(F16,0,-3),) -> 0 | G16: =IFERROR(OFFSET(G16,0,-2)/OFFSET(G16,0,-3),) -> 0
A17: 213 | B17: 农林水支出 | F17: =IFERROR(OFFSET(F17,0,-1)/OFFSET(F17,0,-3),) -> 0 | G17: =IFERROR(OFFSET(G17,0,-2)/OFFSET(G17,0,-3),) -> 0
... A30: 233 | B30: 债务发行费用支出 | F30: =IFERROR(OFFSET(F30,0,-1)/OFFSET(F30,0,-3),) -> 0 | G30: =IFERROR(OFFSET(G30,0,-2)/OFFSET(G30,0,-3),) -> 0
A34: 支出总计 | C34: =SUM(OFFSET(C34,-28,0,28,1)) -> 0 | D34: =SUM(OFFSET(D34,-28,0,28,1)) -> 0 | E34: =SUM(OFFSET(E34,-28,0,28,1)) -> 0 | F34: =IFERROR(OFFSET(F34,0,-1)/OFFSET(F34,0,-3),) -> 0 | G34: =IFERROR(OFFSET(G34,0,-2)/OFFSET(G34,0,-3),) -> 0

Sheet 表三
A1: 表三
A2: 2025年一般公共预算收支平衡表
M3: 单位：万元
A4: 收入 | H4: 支出
A5: 科目编码 | B5: 项目 | C5: 上年 预算数 | D5: 上年预计 执行数 | E5: 预算数 | H5: 科目编码 | I5: 项目 | J5: 上年 预算数 | K5: 上年预计 执行数 | L5: 预算数
E6: 金额 | F6: 为上年预算数的% | G6: 为上年预计执行数的% | L6: 金额 | M6: 为上年预算数的% | N6: 为上年预计执行数的%
B7: 地方本级收入合计 | C7: =表一!C35 -> 0 | D7: =表一!D35 -> 0 | E7: =表一!E35 -> 0 | F7: =IFERROR(OFFSET(F7,0,-1)/OFFSET(F7,0,-3),) -> 0 | G7: =IFERROR(OFFSET(G7,0,-2)/OFFSET(G7,0,-3),) -> 0 | I7: 地方本级支出合计 | J7: =表二!C34 -> 0 | K7: =表二!D34 -> 0 | L7: =表二!E34 -> 0 | M7: =IFERROR(OFFSET(M7,0,-1)/OFFSET(M7,0,-3),) -> 0 | N7: =IFERROR(OFFSET(N7,0,-2)/OFFSET(N7,0,-3),) -> 0
A8: 110 | B8: 转移性收入 | C8: =SUM(C9,OFFSET(C8,5,0),C16,OFFSET(C8,13,0,2,1)) -> 0 | D8: =SUM(D9,OFFSET(D8,5,0),D16,OFFSET(D8,13,0,2,1)) -> 0 | E8: =SUM(E9,OFFSET(E8,5,0),E16,OFFSET(E8,13,0,2,1)) -> 0 | F8: =IFERROR(OFFSET(F8,0,-1)/OFFSET(F8,0,-3),) -> 0 | G8: =IFERROR(OFFSET(G8,0,-2)/OFFSET(G8,0,-3),) -> 0 | H8: 230 | I8: 转移性支出 | J8: =SUM(J9,J12,J13,OFFSET(J8,7,0,3,1)) -> 0 | K8: =SUM(K9,K12,K13,OFFSET(K8,7,0,3,1)) -> 0 | L8: =SUM(L9,L12,L13,OFFSET(L8,7,0,3,1)) -> 0 | M8: =IFERROR(OFFSET(M8,0,-1)/OFFSET(M8,0,-3),) -> 0 | N8: =IFERROR(OFFSET(N8,0,-2)/OFFSET(N8,0,-3),) -> 0
B9: 上级补助收入 | C9: =SUM(OFFSET(C9,1,0,3,1)) -> 0 | D9: =SUM(OFFSET(D9,1,0,3,1)) -> 0 | E9: =SUM(OFFSET(E9,1,0,3,1)) -> 0 | F9: =IFERROR(OFFSET(F9,0,-1)/OFFSET(F9,0,-3),) -> 0 | G9: =IFERROR(OFFSET(G9,0,-2)/OFFSET(G9,0,-3),) -> 0 | H9: 23006 | I9: 上解支出 | J9: =SUM(OFFSET(J9,1,0,2,1)) -> 0 | K9: =SUM(OFFSET(K9,1,0,2,1)) -> 0 | L9: =SUM(OFFSET(L9,1,0,2,1)) -> 0 | M9: =IFERROR(OFFSET(M9,0,-1)/OFFSET(M9,0,-3),) -> 0 | N9: =IFERROR(OFFSET(N9,0,-2)/OFFSET(N9,0,-3),) -> 0
A10: 11001 | B10: 返还性收入 | F10: =IFERROR(OFFSET(F10,0,-1)/OFFSET(F10,0,-3),) -> 0 | G10: =IFERROR(OFFSET(G10,0,-2)/OFFSET(G10,0,-3),) -> 0 | H10: 2300601 | I10: 体制上解支出 | M10: =IFERROR(OFFSET(M10,0,-1)/OFFSET(M10,0,-3),) -> 0 | N10: =IFERROR(OFFSET(N10,0,-2)/OFFSET(N10,0,-3),) -> 0
A11: 11002 | B11: 一般性转移支付收入 | F11: =IFERROR(OFFSET(F11,0,-1)/OFFSET(F11,0,-3),) -> 0 | G11: =IFERROR(OFFSET(G11,0,-2)/OFFSET(G11,0,-3),) -> 0 | H11: 2300602 | I11: 专项上解支出 | M11: =IFERROR(OFFSET(M11,0,-1)/OFFSET(M11,0,-3),) -> 0 | N11: =IFERROR(OFFSET(N11,0,-2)/OFFSET(N11,0,-3),) -> 0
A12: 11003 | B12: 专项转移支付收入 | F12: =IFERROR(OFFSET(F12,0,-1)/OFFSET(F12,0,-3),) -> 0 | G12: =IFERROR(OFFSET(G12,0,-2)/OFFSET(G12,0,-3),) -> 0 | H12: 23008 | I12: 调出资金 | J12: =SUM(OFFSET(表四!$B$49,0,1),OFFSET(表四!$B$51,0,1),OFFSET(表四!$B$53,0,1),OFFSET(表四!$B$56,0,1)) -> 0 | K12: =SUM(OFFSET(表四!$B$49,0,2),OFFSET(表四!$B$51,0,2),OFFSET(表四!$B$53,0,2),OFFSET(表四!$B$56,0,2)) -> 0 | L12: =SUM(OFFSET(表四!$B$49,0,3),OFFSET(表四!$B$51,0,3),OFFSET(表四!$B$53,0,3),OFFSET(表四!$B$56,0,3)) -> 0 | M12: =IFERROR(OFFSET(M12,0,-1)/OFFSET(M12,0,-3),) -> 0 | N12: =IFERROR(OFFSET(N12,0,-2)/OFFSET(N12,0,-3),) -> 0
A13: 11008 | B13: 上年结余收入 | E13: =$K$13 -> 0 | F13: =IFERROR(OFFSET(F13,0,-1)/OFFSET(F13,0,-3),) -> 0 | G13: =IFERROR(OFFSET(G13,0,-2)/OFFSET(G13,0,-3),) -> 0 | H13: 23009 | I13: 年终结余 | J13: =OFFSET(J13,1,0) -> 0 | K13: =OFFSET(K13,1,0) -> 0 | L13: =OFFSET(L13,1,0) -> 0 | M13: =IFERROR(OFFSET(M13,0,-1)/OFFSET(M13,0,-3),) -> 0 | N13: =IFERROR(OFFSET(N13,0,-2)/OFFSET(N13,0,-3),) -> 0
F14: =IFERROR(OFFSET(F14,0,-1)/OFFSET(F14,0,-3),) -> 0 | G14: =IFERROR(OFFSET(G14,0,-2)/OFFSET(G14,0,-3),) -> 0 | H14: 2300901 | I14: 一般公共预算年终结余 | M14: =IFERROR(OFFSET(M14,0,-1)/OFFSET(M14,0,-3),) -> 0 | N14: =IFERROR(OFFSET(N14,0,-2)/OFFSET(N14,0,-3),) -> 0
F15: =IFERROR(OFFSET(F15,0,-1)/OFFSET(F15,0,-3),) -> 0 | G15: =IFERROR(OFFSET(G15,0,-2)/OFFSET(G15,0,-3),) -> 0 | H15: 23015 | I15: 安排预算稳定调节基金 | M15: =IFERROR(OFFSET(M15,0,-1)/OFFSET(M15,0,-3),) -> 0 | N15: =IFERROR(OFFSET(N15,0,-2)/OFFSET(N15,0,-3),) -> 0
A16: 11009 | B16: 调入资金 | C16: =C17 -> 0 | D16: =D17 -> 0 | E16: =E17 -> 0 | F16: =IFERROR(OFFSET(F16,0,-1)/OFFSET(F16,0,-3),) -> 0 | G16: =IFERROR(OFFSET(G16,0,-2)/OFFSET(G16,0,-3),) -> 0 | H16: 23016 | I16: 补充预算周转金 | M16: =IFERROR(OFFSET(M16,0,-1)/OFFSET(M16,0,-3),) -> 0 | N16: =IFERROR(OFFSET(N16,0,-2)/OFFSET(N16,0,-3),) -> 0
A17: 1100901 | B17: 调入一般公共预算资金 | C17: =SUM(OFFSET(C17,1,0,3,1)) -> 0 | D17: =SUM(OFFSET(D17,1,0,3,1)) -> 0 | E17: =SUM(OFFSET(E17,1,0,3,1)) -> 0 | F17: =IFERROR(OFFSET(F17,0,-1)/OFFSET(F17,0,-3),) -> 0 | G17: =IFERROR(OFFSET(G17,0,-2)/OFFSET(G17,0,-3),) -> 0 | H17: 23021 | I17: 区域间转移性支出 | J17: =SUM(OFFSET(J17,1,0,4,1)) -> 0 | K17: =SUM(OFFSET(K17,1,0,4,1)) -> 0 | L17: =SUM(OFFSET(L17,1,0,4,1)) -> 0 | M17: =IFERROR(OFFSET(M17,0,-1)/OFFSET(M17,0,-3),) -> 0 | N17: =IFERROR(OFFSET(N17,0,-2)/OFFSET(N17,0,-3),) -> 0
A18: 110090102 | B18: 从政府性基金预算调入一般公共预算 | C18: =表四!J48 -> 0 | D18: =表四!K48 -> 0 | E18: =表四!L48 -> 0 | F18: =IFERROR(OFFSET(F18,0,-1)/OFFSET(F18,0,-3),) -> 0 | G18: =IFERROR(OFFSET(G18,0,-2)/OFFSET(G18,0,-3),) -> 0 | H18: 2302101 | I18: 援助其他地区支出 | M18: =IFERROR(OFFSET(M18,0,-1)/OFFSET(M18,0,-3),) -> 0 | N18: =IFERROR(OFFSET(N18,0,-2)/OFFSET(N18,0,-3),) -> 0
A19: 110090103 | B19: 从国有资本经营预算调入一般公共预算 | F19: =IFERROR(OFFSET(F19,0,-1)/OFFSET(F19,0,-3),) -> 0 | G19: =IFERROR(OFFSET(G19,0,-2)/OFFSET(G19,0,-3),) -> 0 | H19: 2302102 | I19: 生态保护补偿转移性支出 | M19: =IFERROR(OFFSET(M19,0,-1)/OFFSET(M19,0,-3),) -> 0 | N19: =IFERROR(OFFSET(N19,0,-2)/OFFSET(N19,0,-3),) -> 0
A20: 110090199 | B20: 从其他资金调入一般公共预算 | F20: =IFERROR(OFFSET(F20,0,-1)/OFFSET(F20,0,-3),) -> 0 | G20: =IFERROR(OFFSET(G20,0,-2)/OFFSET(G20,0,-3),) -> 0 | H20: 2302103 | I20: 土地指标调剂转移性支出 | M20: =IFERROR(OFFSET(M20,0,-1)/OFFSET(M20,0,-3),) -> 0 | N20: =IFERROR(OFFSET(N20,0,-2)/OFFSET(N20,0,-3),) -> 0
A21: 11015 | B21: 动用预算稳定调节基金 | F21: =IFERROR(OFFSET(F21,0,-1)/OFFSET(F21,0,-3),) -> 0 | G21: =IFERROR(OFFSET(G21,0,-2)/OFFSET(G21,0,-3),) -> 0 | H21: 2302199 | I21: 其他转移性支出 | M21: =IFERROR(OFFSET(M21,0,-1)/OFFSET(M21,0,-3),) -> 0 | N21: =IFERROR(OFFSET(N21,0,-2)/OFFSET(N21,0,-3),) -> 0
A22: 11021 | B22: 区域间转移支付收入 | C22: =SUM(OFFSET(C22,1,0,4,1)) -> 0 | D22: =SUM(OFFSET(D22,1,0,4,1)) -> 0 | E22: =SUM(OFFSET(E22,1,0,4,1)) -> 0 | F22: =IFERROR(OFFSET(F22,0,-1)/OFFSET(F22,0,-3),) -> 0 | G22: =IFERROR(OFFSET(G22,0,-2)/OFFSET(G22,0,-3),) -> 0 | M22: =IFERROR(OFFSET(M22,0,-1)/OFFSET(M22,0,-3),) -> 0 | N22: =IFERROR(OFFSET(N22,0,-2)/OFFSET(N22,0,-3),) -> 0
A23: 1102101 | B23: 接受其他地区援助收入 | F23: =IFERROR(OFFSET(F23,0,-1)/OFFSET(F23,0,-3),) -> 0 | G23: =IFERROR(OFFSET(G23,0,-2)/OFFSET(G23,0,-3),) -> 0 | M23: =IFERROR(OFFSET(M23,0,-1)/OFFSET(M23,0,-3),) -> 0 | N23: =IFERROR(OFFSET(N23,0,-2)/OFFSET(N23,0,-3),) -> 0
A24: 1102102 | B24: 生态保护补偿转移性收入 | F24: =IFERROR(OFFSET(F24,0,-1)/OFFSET(F24,0,-3),) -> 0 | G24: =IFERROR(OFFSET(G24,0,-2)/OFFSET(G24,0,-3),) -> 0 | M24: =IFERROR(OFFSET(M24,0,-1)/OFFSET(M24,0,-3),) -> 0 | N24: =IFERROR(OFFSET(N24,0,-2)/OFFSET(N24,0,-3),) -> 0
A25: 1102103 | B25: 土地指标调剂转移性收入 | F25: =IFERROR(OFFSET(F25,0,-1)/OFFSET(F25,0,-3),) -> 0 | G25: =IFERROR(OFFSET(G25,0,-2)/OFFSET(G25,0,-3),) -> 0 | M25: =IFERROR(OFFSET(M25,0,-1)/OFFSET(M25,0,-3),) -> 0 | N25: =IFERROR(OFFSET(N25,0,-2)/OFFSET(N25,0,-3),) -> 0
A26: 1102199 | B26: 其他转移性收入 | F26: =IFERROR(OFFSET(F26,0,-1)/OFFSET(F26,0,-3),) -> 0 | G26: =IFERROR(OFFSET(G26,0,-2)/OFFSET(G26,0,-3),) -> 0 | M26: =IFERROR(OFFSET(M26,0,-1)/OFFSET(M26,0,-3),) -> 0 | N26: =IFERROR(OFFSET(N26,0,-2)/OFFSET(N26,0,-3),) -> 0
F27: =IFERROR(OFFSET(F27,0,-1)/OFFSET(F27,0,-3),) -> 0 | G27: =IFERROR(OFFSET(G27,0,-2)/OFFSET(G27,0,-3),) -> 0 | M27: =IFERROR(OFFSET(M27,0,-1)/OFFSET(M27,0,-3),) -> 0 | N27: =IFERROR(OFFSET(N27,0,-2)/OFFSET(N27,0,-3),) -> 0
A28: 105 | B28: 债务收入 | C28: =C29 -> 0 | D28: =D29 -> 0 | E28: =E29 -> 0 | F28: =IFERROR(OFFSET(F28,0,-1)/OFFSET(F28,0,-3),) -> 0 | G28: =IFERROR(OFFSET(G28,0,-2)/OFFSET(G28,0,-3),) -> 0 | H28: 231 | I28: 债务还本支出 | J28: =OFFSET(J28,1,0) -> 0 | K28: =OFFSET(K28,1,0) -> 0 | L28: =OFFSET(L28,1,0) -> 0 | M28: =IFERROR(OFFSET(M28,0,-1)/OFFSET(M28,0,-3),) -> 0 | N28: =IFERROR(OFFSET(N28,0,-2)/OFFSET(N28,0,-3),) -> 0
A29: 10504 | B29: 地方政府债务收入 | C29: =OFFSET(C29,1,0) -> 0 | D29: =OFFSET(D29,1,0) -> 0 | E29: =OFFSET(E29,1,0) -> 0 | F29: =IFERROR(OFFSET(F29,0,-1)/OFFSET(F29,0,-3),) -> 0 | G29: =IFERROR(OFFSET(G29,0,-2)/OFFSET(G29,0,-3),) -> 0 | H29: 23103 | I29: 地方政府一般债务还本支出 | M29: =IFERROR(OFFSET(M29,0,-1)/OFFSET(M29,0,-3),) -> 0 | N29: =IFERROR(OFFSET(N29,0,-2)/OFFSET(N29,0,-3),) -> 0
A30: 1050401 | B30: 一般债务收入 | F30: =IFERROR(OFFSET(F30,0,-1)/OFFSET(F30,0,-3),) -> 0 | G30: =IFERROR(OFFSET(G30,0,-2)/OFFSET(G30,0,-3),) -> 0 | M30: =IFERROR(OFFSET(M30,0,-1)/OFFSET(M30,0,-3),) -> 0 | N30: =IFERROR(OFFSET(N30,0,-2)/OFFSET(N30,0,-3),) -> 0
F31: =IFERROR(OFFSET(F31,0,-1)/OFFSET(F31,0,-3),) -> 0 | G31: =IFERROR(OFFSET(G31,0,-2)/OFFSET(G31,0,-3),) -> 0 | M31: =IFERROR(OFFSET(M31,0,-1)/OFFSET(M31,0,-3),) -> 0 | N31: =IFERROR(OFFSET(N31,0,-2)/OFFSET(N31,0,-3),) -> 0
B32: 收入总计 | C32: =SUM(C7:C8,C28) -> 0 | D32: =SUM(D7:D8,D28) -> 0 | E32: =SUM(E7:E8,E28) -> 0 | F32: =IFERROR(OFFSET(F32,0,-1)/OFFSET(F32,0,-3),) -> 0 | G32: =IFERROR(OFFSET(G32,0,-2)/OFFSET(G32,0,-3),) -> 0 | I32: 支出总计 | J32: =SUM(J7:J8,J28) -> 0 | K32: =SUM(K7:K8,K28) -> 0 | L32: =SUM(L7:L8,L28) -> 0 | M32: =IFERROR(OFFSET(M32,0,-1)/OFFSET(M32,0,-3),) -> 0 | N32: =IFERROR(OFFSET(N32,0,-2)/OFFSET(N32,0,-3),) -> 0
C34: =IF(ABS(C32-J32)>0.5,"请检查平衡！",0) -> 0 | D34: =IF(ABS(D32-K32)>0.5,"请检查平衡！",0) -> 0 | E34: =IF(ABS(E32-L32)>0.5,"请检查平衡！",0) -> 0

Sheet 表四
A1: 表四
A2: 2025年政府性基金预算收支表
M3: 单位：万元
A4: 收入 | H4: 支出
A5: 科目编码 | B5: 项目 | C5: 上年 预算数 | D5: 上年预计 执行数 | E5: 预算数 | H5: 科目编码 | I5: 项目 | J5: 上年 预算数 | K5: 上年预计 执行数 | L5: 预算数
E6: 金额 | F6: 为上年预算数的% | G6: 为上年预计执行数的% | L6: 金额 | M6: 为上年预算数的% | N6: 为上年预计执行数的%
A7: 10301 | B7: 政府性基金收入 | C7: =SUM(OFFSET($B$9,0,1,6),OFFSET($B$21,0,1,2),OFFSET($B$25,0,1,3),OFFSET($B$29,0,1,3),OFFSET($B$37,0,1,3)) -> 0 | D7: =SUM(OFFSET($B$9,0,2,6),OFFSET($B$21,0,2,2),OFFSET($B$25,0,2,3),OFFSET($B$29,0,2,3),OFFSET($B$37,0,2,3)) -> 0 | E7: =SUM(OFFSET($B$9,0,3,6),OFFSET($B$21,0,3,2),OFFSET($B$25,0,3,3),OFFSET($B$29,0,3,3),OFFSET($B$37,0,3,3)) -> 0 | F7: =IFERROR(OFFSET(F7,0,-1)/OFFSET(F7,0,-3),) -> 0 | G7: =IFERROR(OFFSET(G7,0,-2)/OFFSET(G7,0,-3),) -> 0 | H7: 205 | I7: 教育支出 | M7: =IFERROR(OFFSET(M7,0,-1)/OFFSET(M7,0,-3),) -> 0 | N7: =IFERROR(OFFSET(N7,0,-2)/OFFSET(N7,0,-3),) -> 0
A8: 1030102 | B8: 农网还贷资金收入 | C8: =OFFSET(C8,1,0) -> 0 | D8: =OFFSET(D8,1,0) -> 0 | E8: =OFFSET(E8,1,0) -> 0 | F8: =IFERROR(OFFSET(F8,0,-1)/OFFSET(F8,0,-3),) -> 0 | G8: =IFERROR(OFFSET(G8,0,-2)/OFFSET(G8,0,-3),) -> 0 | H8: 206 | I8: 科学技术支出 | M8: =IFERROR(OFFSET(M8,0,-1)/OFFSET(M8,0,-3),) -> 0 | N8: =IFERROR(OFFSET(N8,0,-2)/OFFSET(N8,0,-3),) -> 0
A9: 103010202 | B9: 地方农网还贷资金收入 | F9: =IFERROR(OFFSET(F9,0,-1)/OFFSET(F9,0,-3),) -> 0 | G9: =IFERROR(OFFSET(G9,0,-2)/OFFSET(G9,0,-3),) -> 0 | H9: 207 | I9: 文化旅游体育与传媒支出 | M9: =IFERROR(OFFSET(M9,0,-1)/OFFSET(M9,0,-3),) -> 0 | N9: =IFERROR(OFFSET(N9,0,-2)/OFFSET(N9,0,-3),) -> 0
A10: 1030112 | B10: 海南省高等级公路车辆通行附加费收入 | F10: =IFERROR(OFFSET(F10,0,-1)/OFFSET(F10,0,-3),) -> 0 | G10: =IFERROR(OFFSET(G10,0,-2)/OFFSET(G10,0,-3),) -> 0 | H10: 208 | I10: 社会保障和就业支出 | M10: =IFERROR(OFFSET(M10,0,-1)/OFFSET(M10,0,-3),) -> 0 | N10: =IFERROR(OFFSET(N10,0,-2)/OFFSET(N10,0,-3),) -> 0
A11: 1030129 | B11: 国家电影事业发展专项资金收入 | F11: =IFERROR(OFFSET(F11,0,-1)/OFFSET(F11,0,-3),) -> 0 | G11: =IFERROR(OFFSET(G11,0,-2)/OFFSET(G11,0,-3),) -> 0 | H11: 210 | I11: 卫生健康支出 | M11: =IFERROR(OFFSET(M11,0,-1)/OFFSET(M11,0,-3),) -> 0 | N11: =IFERROR(OFFSET(N11,0,-2)/OFFSET(N11,0,-3),) -> 0
A12: 1030146 | B12: 国有土地收益基金收入 | F12: =IFERROR(OFFSET(F12,0,-1)/OFFSET(F12,0,-3),) -> 0 | G12: =IFERROR(OFFSET(G12,0,-2)/OFFSET(G12,0,-3),) -> 0 | H12: 211 | I12: 节能环保支出 | M12: =IFERROR(OFFSET(M12,0,-1)/OFFSET(M12,0,-3),) -> 0 | N12: =IFERROR(OFFSET(N12,0,-2)/OFFSET(N12,0,-3),) -> 0
A13: 1030147 | B13: 农业土地开发资金收入 | F13: =IFERROR(OFFSET(F13,0,-1)/OFFSET(F13,0,-3),) -> 0 | G13: =IFERROR(OFFSET(G13,0,-2)/OFFSET(G13,0,-3),) -> 0 | H13: 212 | I13: 城乡社区支出 | M13: =IFERROR(OFFSET(M13,0,-1)/OFFSET(M13,0,-3),) -> 0 | N13: =IFERROR(OFFSET(N13,0,-2)/OFFSET(N13,0,-3),) -> 0
A14: 1030148 | B14: 国有土地使用权出让收入 | C14: =SUM(OFFSET(C14,1,0,5,1)) -> 0 | D14: =SUM(OFFSET(D14,1,0,5,1)) -> 0 | E14: =SUM(OFFSET(E14,1,0,5,1)) -> 0 | F14: =IFERROR(OFFSET(F14,0,-1)/OFFSET(F14,0,-3),) -> 0 | G14: =IFERROR(OFFSET(G14,0,-2)/OFFSET(G14,0,-3),) -> 0 | H14: 213 | I14: 农林水支出 | M14: =IFERROR(OFFSET(M14,0,-1)/OFFSET(M14,0,-3),) -> 0 | N14: =IFERROR(OFFSET(N14,0,-2)/OFFSET(N14,0,-3),) -> 0
A15: 103014801 | B15: 土地出让价款收入 | F15: =IFERROR(OFFSET(F15,0,-1)/OFFSET(F15,0,-3),) -> 0 | G15: =IFERROR(OFFSET(G15,0,-2)/OFFSET(G15,0,-3),) -> 0 | H15: 214 | I15: 交通运输支出 | M15: =IFERROR(OFFSET(M15,0,-1)/OFFSET(M15,0,-3),) -> 0 | N15: =IFERROR(OFFSET(N15,0,-2)/OFFSET(N15,0,-3),) -> 0
A16: 103014802 | B16: 补缴的土地价款 | F16: =IFERROR(OFFSET(F16,0,-1)/OFFSET(F16,0,-3),) -> 0 | G16: =IFERROR(OFFSET(G16,0,-2)/OFFSET(G16,0,-3),) -> 0 | H16: 215 | I16: 资源勘探工业信息等支出 | M16: =IFERROR(OFFSET(M16,0,-1)/OFFSET(M16,0,-3),) -> 0 | N16: =IFERROR(OFFSET(N16,0,-2)/OFFSET(N16,0,-3),) -> 0
A17: 103014803 | B17: 划拨土地收入 | F17: =IFERROR(OFFSET(F17,0,-1)/OFFSET(F17,0,-3),) -> 0 | G17: =IFERROR(OFFSET(G17,0,-2)/OFFSET(G17,0,-3),) -> 0 | H17: 217 | I17: 金融支出 | M17: =IFERROR(OFFSET(M17,0,-1)/OFFSET(M17,0,-3),) -> 0 | N17: =IFERROR(OFFSET(N17,0,-2)/OFFSET(N17,0,-3),) -> 0
A18: 103014898 | B18: 缴纳新增建设用地土地有偿使用费 | F18: =IFERROR(OFFSET(F18,0,-1)/OFFSET(F18,0,-3),) -> 0 | G18: =IFERROR(OFFSET(G18,0,-2)/OFFSET(G18,0,-3),) -> 0 | H18: 220 | I18: 自然资源海洋气象等支出 | M18: =IFERROR(OFFSET(M18,0,-1)/OFFSET(M18,0,-3),) -> 0 | N18: =IFERROR(OFFSET(N18,0,-2)/OFFSET(N18,0,-3),) -> 0
A19: 103014899 | B19: 其他土地出让收入 | F19: =IFERROR(OFFSET(F19,0,-1)/OFFSET(F19,0,-3),) -> 0 | G19: =IFERROR(OFFSET(G19,0,-2)/OFFSET(G19,0,-3),) -> 0 | H19: 221 | I19: 住房保障支出 | M19: =IFERROR(OFFSET(M19,0,-1)/OFFSET(M19,0,-3),) -> 0 | N19: =IFERROR(OFFSET(N19,0,-2)/OFFSET(N19,0,-3),) -> 0
A20: 1030150 | B20: 大中型水库库区基金收入 | C20: =OFFSET(C20,1,0) -> 0 | D20: =OFFSET(D20,1,0) -> 0 | E20: =OFFSET(E20,1,0) -> 0 | F20: =IFERROR(OFFSET(F20,0,-1)/OFFSET(F20,0,-3),) -> 0 | G20: =IFERROR(OFFSET(G20,0,-2)/OFFSET(G20,0,-3),) -> 0 | H20: 222 | I20: 粮油物资储备支出 | M20: =IFERROR(OFFSET(M20,0,-1)/OFFSET(M20,0,-3),) -> 0 | N20: =IFERROR(OFFSET(N20,0,-2)/OFFSET(N20,0,-3),) -> 0
A21: 103015002 | B21: 地方大中型水库库区基金收入 | F21: =IFERROR(OFFSET(F21,0,-1)/OFFSET(F21,0,-3),) -> 0 | G21: =IFERROR(OFFSET(G21,0,-2)/OFFSET(G21,0,-3),) -> 0 | H21: 224 | I21: 灾害防治及应急管理支出 | M21: =IFERROR(OFFSET(M21,0,-1)/OFFSET(M21,0,-3),) -> 0 | N21: =IFERROR(OFFSET(N21,0,-2)/OFFSET(N21,0,-3),) -> 0
A22: 1030155 | B22: 彩票公益金收入 | C22: =SUM(OFFSET(C22,1,0,2,1)) -> 0 | D22: =SUM(OFFSET(D22,1,0,2,1)) -> 0 | E22: =SUM(OFFSET(E22,1,0,2,1)) -> 0 | F22: =IFERROR(OFFSET(F22,0,-1)/OFFSET(F22,0,-3),) -> 0 | G22: =IFERROR(OFFSET(G22,0,-2)/OFFSET(G22,0,-3),) -> 0 | H22: 229 | I22: 其他支出 | M22: =IFERROR(OFFSET(M22,0,-1)/OFFSET(M22,0,-3),) -> 0 | N22: =IFERROR(OFFSET(N22,0,-2)/OFFSET(N22,0,-3),) -> 0
A23: 103015501 | B23: 福利彩票公益金收入 | F23: =IFERROR(OFFSET(F23,0,-1)/OFFSET(F23,0,-3),) -> 0 | G23: =IFERROR(OFFSET(G23,0,-2)/OFFSET(G23,0,-3),) -> 0 | H23: 232 | I23: 债务付息支出 | M23: =IFERROR(OFFSET(M23,0,-1)/OFFSET(M23,0,-3),) -> 0 | N23: =IFERROR(OFFSET(N23,0,-2)/OFFSET(N23,0,-3),) -> 0
A24: 103015502 | B24: 体育彩票公益金收入 | F24: =IFERROR(OFFSET(F24,0,-1)/OFFSET(F24,0,-3),) -> 0 | G24: =IFERROR(OFFSET(G24,0,-2)/OFFSET(G24,0,-3),) -> 0 | H24: 233 | I24: 债务发行费用支出 | M24: =IFERROR(OFFSET(M24,0,-1)/OFFSET(M24,0,-3),) -> 0 | N24: =IFERROR(OFFSET(N24,0,-2)/OFFSET(N24,0,-3),) -> 0
A25: 1030156 | B25: 城市基础设施配套费收入 | F25: =IFERROR(OFFSET(F25,0,-1)/OFFSET(F25,0,-3),) -> 0 | G25: =IFERROR(OFFSET(G25,0,-2)/OFFSET(G25,0,-3),) -> 0 | H25: 234 | I25: 抗疫特别国债安排的支出 | M25: =IFERROR(OFFSET(M25,0,-1)/OFFSET(M25,0,-3),) -> 0 | N25: =IFERROR(OFFSET(N25,0,-2)/OFFSET(N25,0,-3),) -> 0
A26: 1030157 | B26: 小型水库移民扶助基金收入 | F26: =IFERROR(OFFSET(F26,0,-1)/OFFSET(F26,0,-3),) -> 0 | G26: =IFERROR(OFFSET(G26,0,-2)/OFFSET(G26,0,-3),) -> 0 | M26: =IFERROR(OFFSET(M26,0,-1)/OFFSET(M26,0,-3),) -> 0 | N26: =IFERROR(OFFSET(N26,0,-2)/OFFSET(N26,0,-3),) -> 0
A27: 1030158 | B27: 国家重大水利工程建设基金收入 | C27: =OFFSET(C27,1,0) -> 0 | D27: =OFFSET(D27,1,0) -> 0 | E27: =OFFSET(E27,1,0) -> 0 | F27: =IFERROR(OFFSET(F27,0,-1)/OFFSET(F27,0,-3),) -> 0 | G27: =IFERROR(OFFSET(G27,0,-2)/OFFSET(G27,0,-3),) -> 0 | M27: =IFERROR(OFFSET(M27,0,-1)/OFFSET(M27,0,-3),) -> 0 | N27: =IFERROR(OFFSET(N27,0,-2)/OFFSET(N27,0,-3),) -> 0
A28: 103015803 | B28: 地方重大水利工程建设资金 | F28: =IFERROR(OFFSET(F28,0,-1)/OFFSET(F28,0,-3),) -> 0 | G28: =IFERROR(OFFSET(G28,0,-2)/OFFSET(G28,0,-3),) -> 0 | M28: =IFERROR(OFFSET(M28,0,-1)/OFFSET(M28,0,-3),) -> 0 | N28: =IFERROR(OFFSET(N28,0,-2)/OFFSET(N28,0,-3),) -> 0
A29: 1030159 | B29: 车辆通行费 | F29: =IFERROR(OFFSET(F29,0,-1)/OFFSET(F29,0,-3),) -> 0 | G29: =IFERROR(OFFSET(G29,0,-2)/OFFSET(G29,0,-3),) -> 0 | M29: =IFERROR(OFFSET(M29,0,-1)/OFFSET(M29,0,-3),) -> 0 | N29: =IFERROR(OFFSET(N29,0,-2)/OFFSET(N29,0,-3),) -> 0
A30: 1030178 | B30: 污水处理费收入 | F30: =IFERROR(OFFSET(F30,0,-1)/OFFSET(F30,0,-3),) -> 0 | G30: =IFERROR(OFFSET(G30,0,-2)/OFFSET(G30,0,-3),) -> 0 | M30: =IFERROR(OFFSET(M30,0,-1)/OFFSET(M30,0,-3),) -> 0 | N30: =IFERROR(OFFSET(N30,0,-2)/OFFSET(N30,0,-3),) -> 0
A31: 1030180 | B31: 彩票发行机构和彩票销售机构的业务费用 | C31: =SUM(OFFSET(C31,1,0,5,1)) -> 0 | D31: =SUM(OFFSET(D31,1,0,5,1)) -> 0 | E31: =SUM(OFFSET(E31,1,0,5,1)) -> 0 | F31: =IFERROR(OFFSET(F31,0,-1)/OFFSET(F31,0,-3),) -> 0 | G31: =IFERROR(OFFSET(G31,0,-2)/OFFSET(G31,0,-3),) -> 0 | M31: =IFERROR(OFFSET(M31,0,-1)/OFFSET(M31,0,-3),) -> 0 | N31: =IFERROR(OFFSET(N31,0,-2)/OFFSET(N31,0,-3),) -> 0
A32: 103018003 | B32: 福利彩票销售机构的业务费用 | F32: =IFERROR(OFFSET(F32,0,-1)/OFFSET(F32,0,-3),) -> 0 | G32: =IFERROR(OFFSET(G32,0,-2)/OFFSET(G32,0,-3),) -> 0 | M32: =IFERROR(OFFSET(M32,0,-1)/OFFSET(M32,0,-3),) -> 0 | N32: =IFERROR(OFFSET(N32,0,-2)/OFFSET(N32,0,-3),) -> 0
A33: 103018004 | B33: 体育彩票销售机构的业务费用 | F33: =IFERROR(OFFSET(F33,0,-1)/OFFSET(F33,0,-3),) -> 0 | G33: =IFERROR(OFFSET(G33,0,-2)/OFFSET(G33,0,-3),) -> 0 | M33: =IFERROR(OFFSET(M33,0,-1)/OFFSET(M33,0,-3),) -> 0 | N33: =IFERROR(OFFSET(N33,0,-2)/OFFSET(N33,0,-3),) -> 0
A34: 103018005 | B34: 彩票兑奖周转金 | F34: =IFERROR(OFFSET(F34,0,-1)/OFFSET(F34,0,-3),) -> 0 | G34: =IFERROR(OFFSET(G34,0,-2)/OFFSET(G34,0,-3),) -> 0 | M34: =IFERROR(OFFSET(M34,0,-1)/OFFSET(M34,0,-3),) -> 0 | N34: =IFERROR(OFFSET(N34,0,-2)/OFFSET(N34,0,-3),) -> 0
A35: 103018006 | B35: 彩票发行销售风险基金 | F35: =IFERROR(OFFSET(F35,0,-1)/OFFSET(F35,0,-3),) -> 0 | G35: =IFERROR(OFFSET(G35,0,-2)/OFFSET(G35,0,-3),) -> 0 | M35: =IFERROR(OFFSET(M35,0,-1)/OFFSET(M35,0,-3),) -> 0 | N35: =IFERROR(OFFSET(N35,0,-2)/OFFSET(N35,0,-3),) -> 0
A36: 103018007 | B36: 彩票市场调控资金收入 | F36: =IFERROR(OFFSET(F36,0,-1)/OFFSET(F36,0,-3),) -> 0 | G36: =IFERROR(OFFSET(G36,0,-2)/OFFSET(G36,0,-3),) -> 0 | M36: =IFERROR(OFFSET(M36,0,-1)/OFFSET(M36,0,-3),) -> 0 | N36: =IFERROR(OFFSET(N36,0,-2)/OFFSET(N36,0,-3),) -> 0
A37: 1030182 | B37: 耕地保护考核奖惩基金收入 | F37: =IFERROR(OFFSET(F37,0,-1)/OFFSET(F37,0,-3),) -> 0 | G37: =IFERROR(OFFSET(G37,0,-2)/OFFSET(G37,0,-3),) -> 0 | M37: =IFERROR(OFFSET(M37,0,-1)/OFFSET(M37,0,-3),) -> 0 | N37: =IFERROR(OFFSET(N37,0,-2)/OFFSET(N37,0,-3),) -> 0
A38: 1030183 | B38: 超长期特别国债财务基金收入 | F38: =IFERROR(OFFSET(F38,0,-1)/OFFSET(F38,0,-3),) -> 0 | G38: =IFERROR(OFFSET(G38,0,-2)/OFFSET(G38,0,-3),) -> 0 | M38: =IFERROR(OFFSET(M38,0,-1)/OFFSET(M38,0,-3),) -> 0 | N38: =IFERROR(OFFSET(N38,0,-2)/OFFSET(N38,0,-3),) -> 0
A39: 1030199 | B39: 其他政府性基金收入 | F39: =IFERROR(OFFSET(F39,0,-1)/OFFSET(F39,0,-3),) -> 0 | G39: =IFERROR(OFFSET(G39,0,-2)/OFFSET(G39,0,-3),) -> 0 | M39: =IFERROR(OFFSET(M39,0,-1)/OFFSET(M39,0,-3),) -> 0 | N39: =IFERROR(OFFSET(N39,0,-2)/OFFSET(N39,0,-3),) -> 0
A40: 10310 | B40: 专项债务对应项目专项收入 | F40: =IFERROR(OFFSET(F40,0,-1)/OFFSET(F40,0,-3),) -> 0 | G40: =IFERROR(OFFSET(G40,0,-2)/OFFSET(G40,0,-3),) -> 0 | M40: =IFERROR(OFFSET(M40,0,-1)/OFFSET(M40,0,-3),) -> 0 | N40: =IFERROR(OFFSET(N40,0,-2)/OFFSET(N40,0,-3),) -> 0
...

Sheet 表五
A1: 表五
A2: 2025年国有资本经营预算收支表
O3: 单位：万元
A4: 收入 | I4: 支出
A5: 科目编码 | B5: 项目 | C5: 上年预计执行数 | F5: 预算数 | I5: 科目编码 | J5: 项目 | K5: 上年预计执行数 | N5: 预算数
C6: 合计 | D6: 省本级 | E6: 地市级 及以下 | F6: 合计 | G6: 省本级 | H6: 地市级 及以下 | K6: 合计 | L6: 省本级 | M6: 地市级 及以下 | N6: 合计 | O6: 省本级 | P6: 地市级 及以下
A7: 1030601 | B7: 一、利润收入 | C7: =SUM(OFFSET(C7,0,1,1,2)) -> 0 | F7: =SUM(OFFSET(F7,0,1,1,2)) -> 0 | I7: 22301 | J7: 一、解决历史遗留问题及改革成本支出 | K7: =SUM(OFFSET(K7,0,1,1,2)) -> 0 | N7: =SUM(OFFSET(N7,0,1,1,2)) -> 0
A8: 1030602 | B8: 二、股息红利收入 | C8: =SUM(OFFSET(C8,0,1,1,2)) -> 0 | F8: =SUM(OFFSET(F8,0,1,1,2)) -> 0 | I8: 22302 | J8: 二、国有企业资本金注入 | K8: =SUM(OFFSET(K8,0,1,1,2)) -> 0 | N8: =SUM(OFFSET(N8,0,1,1,2)) -> 0
A9: 1030603 | B9: 三、产权转让收入 | C9: =SUM(OFFSET(C9,0,1,1,2)) -> 0 | F9: =SUM(OFFSET(F9,0,1,1,2)) -> 0 | I9: 22303 | J9: 三、国有企业公益性补贴 | K9: =SUM(OFFSET(K9,0,1,1,2)) -> 0 | N9: =SUM(OFFSET(N9,0,1,1,2)) -> 0
A10: 1030604 | B10: 四、清算收入 | C10: =SUM(OFFSET(C10,0,1,1,2)) -> 0 | F10: =SUM(OFFSET(F10,0,1,1,2)) -> 0 | I10: 22399 | J10: 四、其他国有资本经营预算支出 | K10: =SUM(OFFSET(K10,0,1,1,2)) -> 0 | N10: =SUM(OFFSET(N10,0,1,1,2)) -> 0
A11: 1030698 | B11: 五、其他国有资本经营预算收入 | C11: =SUM(OFFSET(C11,0,1,1,2)) -> 0 | F11: =SUM(OFFSET(F11,0,1,1,2)) -> 0
B14: 地方本级收入合计 | C14: =SUM(OFFSET(C14,-7,0,5,1)) -> 0 | D14: =SUM(OFFSET(D14,-7,0,5,1)) -> 0 | E14: =SUM(OFFSET(E14,-7,0,5,1)) -> 0 | F14: =SUM(OFFSET(F14,-7,0,5,1)) -> 0 | G14: =SUM(OFFSET(G14,-7,0,5,1)) -> 0 | H14: =SUM(OFFSET(H14,-7,0,5,1)) -> 0 | J14: 地方本级支出合计 | K14: =SUM(OFFSET(K14,-7,0,4,1)) -> 0 | L14: =SUM(OFFSET(L14,-7,0,4,1)) -> 0 | M14: =SUM(OFFSET(M14,-7,0,4,1)) -> 0 | N14: =SUM(OFFSET(N14,-7,0,4,1)) -> 0 | O14: =SUM(OFFSET(O14,-7,0,4,1)) -> 0 | P14: =SUM(OFFSET(P14,-7,0,4,1)) -> 0
A15: 110 | B15: 转移性收入 | C15: =SUM(C16,C18,C20) -> 0 | D15: =SUM(D16,D18,D20) -> 0 | E15: =SUM(E16,E18,E20) -> 0 | F15: =SUM(F16,F18,F20) -> 0 | G15: =SUM(G16,G18,G20) -> 0 | H15: =SUM(H16,H18,H20) -> 0 | I15: 230 | J15: 转移性支出 | K15: =SUM(K16,K18,K20,K22) -> 0 | L15: =SUM(L16,L18,L20,L22) -> 0 | M15: =SUM(M16,M18,M20,M22) -> 0 | N15: =SUM(N16,N18,N20,N22) -> 0 | O15: =SUM(O16,O18,O20,O22) -> 0 | P15: =SUM(P16,P18,P20,P22) -> 0
A16: 11005 | B16: 国有资本经营预算转移支付收入 | C16: =OFFSET(C16,1,0) -> 0 | D16: =OFFSET(D16,1,0) -> 0 | E16: =OFFSET(E16,1,0) -> 0 | F16: =OFFSET(F16,1,0) -> 0 | G16: =OFFSET(G16,1,0) -> 0 | H16: =OFFSET(H16,1,0) -> 0 | I16: 23005 | J16: 国有资本经营预算转移支付 | L16: =OFFSET(L16,1,0) -> 0 | O16: =OFFSET(O16,1,0) -> 0
A17: 1100501 | B17: 国有资本经营预算转移支付收入 | I17: 2300501 | J17: 国有资本经营预算转移支付支出
A18: 11006 | B18: 上解收入 | D18: =OFFSET(D18,1,0) -> 0 | G18: =OFFSET(G18,1,0) -> 0 | I18: 23006 | J18: 上解支出 | K18: =OFFSET(K18,1,0) -> 0 | L18: =OFFSET(L18,1,0) -> 0 | M18: =OFFSET(M18,1,0) -> 0 | N18: =OFFSET(N18,1,0) -> 0 | O18: =OFFSET(O18,1,0) -> 0 | P18: =OFFSET(P18,1,0) -> 0
A19: 1100604 | B19: 国有资本经营预算上解收入 | I19: 2300604 | J19: 国有资本经营预算上解支出
A20: 11008 | B20: 上年结余收入 | C20: =OFFSET(C20,1,0) -> 0 | D20: =OFFSET(D20,1,0) -> 0 | E20: =OFFSET(E20,1,0) -> 0 | F20: =OFFSET(F20,1,0) -> 0 | G20: =OFFSET(G20,1,0) -> 0 | H20: =OFFSET(H20,1,0) -> 0 | I20: 23008 | J20: 调出资金 | K20: =OFFSET(K20,1,0) -> 0 | L20: =OFFSET(L20,1,0) -> 0 | M20: =OFFSET(M20,1,0) -> 0 | N20: =OFFSET(N20,1,0) -> 0 | O20: =OFFSET(O20,1,0) -> 0 | P20: =OFFSET(P20,1,0) -> 0
A21: 1100804 | B21: 国有资本经营预算上年结余收入 | C21: =SUM(OFFSET(C21,0,1,1,2)) -> 0 | F21: =SUM(OFFSET(F21,0,1,1,2)) -> 0 | G21: =L22 -> 0 | H21: =M22 -> 0 | I21: 2300803 | J21: 国有资本经营预算调出资金 | K21: =SUM(OFFSET(表三!$B$19,0,2),OFFSET(表四!$B$50,0,2),OFFSET(表四!$B$52,0,2),OFFSET(表四!$B$54,0,2)) -> 0 | M21: =K21-OFFSET(M21,0,-1) -> 0 | N21: =SUM(OFFSET(表三!$B$19,0,3),OFFSET(表四!$B$50,0,3),OFFSET(表四!$B$52,0,3),OFFSET(表四!$B$54,0,3)) -> 0 | P21: =N21-OFFSET(P21,0,-1) -> 0
I22: 23009 | J22: 年终结余 | K22: =OFFSET(K22,1,0) -> 0 | L22: =OFFSET(L22,1,0) -> 0 | M22: =OFFSET(M22,1,0) -> 0 | N22: =OFFSET(N22,1,0) -> 0 | O22: =OFFSET(O22,1,0) -> 0 | P22: =OFFSET(P22,1,0) -> 0
I23: 2300918 | J23: 国有资本经营预算年终结余 | K23: =SUM(OFFSET(K23,0,1,1,2)) -> 0 | N23: =SUM(OFFSET(N23,0,1,1,2)) -> 0
B25: 收 入 总 计 | C25: =SUM(C14:C15) -> 0 | D25: =SUM(D14:D15) -> 0 | E25: =SUM(E14:E15) -> 0 | F25: =SUM(F14:F15) -> 0 | G25: =SUM(G14:G15) -> 0 | H25: =SUM(H14:H15) -> 0 | J25: 支 出 总 计 | K25: =SUM(K14:K15) -> 0 | L25: =SUM(L14:L15) -> 0 | M25: =SUM(M14:M15) -> 0 | N25: =SUM(N14:N15) -> 0 | O25: =SUM(O14:O15) -> 0 | P25: =SUM(P14:P15) -> 0
C27: =IF(ABS(C25-K25)>0.5,"请检查平衡！",0) -> 0 | D27: =IF(ABS(D25-L25)>0.5,"请检查平衡！",0) -> 0 | E27: =IF(ABS(E25-M25)>0.5,"请检查平衡！",0) -> 0 | F27: =IF(ABS(F25-N25)>0.5,"请检查平衡！",0) -> 0 | G27: =IF(ABS(G25-O25)>0.5,"请检查平衡！",0) -> 0 | H27: =IF(ABS(H25-P25)>0.5,"请检查平衡！",0) -> 0
B28: 注：1.国有资本经营预算转移支付收入_合计=国有资本经营预算转移支付收入_省本级+国有资本经营预算转移支付收入_计划单列市
B29: 注：2.国有资本经营预算上解支出_合计=国有资本经营预算上解支出_省本级+国有资本经营预算上解支出_计划单列市
B30: 注：3.国有资本经营预算上解收入_合计=0；国有资本经营预算转移支付支出_合计=0。已禁止录入。
